BEGIN:VCALENDAR
VERSION:2.0
PRODID:-//Happystar - ECPv6.15.20//NONSGML v1.0//EN
CALSCALE:GREGORIAN
METHOD:PUBLISH
X-WR-CALNAME:Happystar
X-ORIGINAL-URL:https://happystar.es
X-WR-CALDESC:Eventos para Happystar
REFRESH-INTERVAL;VALUE=DURATION:PT1H
X-Robots-Tag:noindex
X-PUBLISHED-TTL:PT1H
BEGIN:VTIMEZONE
TZID:Europe/Helsinki
BEGIN:DAYLIGHT
TZOFFSETFROM:+0200
TZOFFSETTO:+0300
TZNAME:EEST
DTSTART:20210328T010000
END:DAYLIGHT
BEGIN:STANDARD
TZOFFSETFROM:+0300
TZOFFSETTO:+0200
TZNAME:EET
DTSTART:20211031T010000
END:STANDARD
BEGIN:DAYLIGHT
TZOFFSETFROM:+0200
TZOFFSETTO:+0300
TZNAME:EEST
DTSTART:20220327T010000
END:DAYLIGHT
BEGIN:STANDARD
TZOFFSETFROM:+0300
TZOFFSETTO:+0200
TZNAME:EET
DTSTART:20221030T010000
END:STANDARD
BEGIN:DAYLIGHT
TZOFFSETFROM:+0200
TZOFFSETTO:+0300
TZNAME:EEST
DTSTART:20230326T010000
END:DAYLIGHT
BEGIN:STANDARD
TZOFFSETFROM:+0300
TZOFFSETTO:+0200
TZNAME:EET
DTSTART:20231029T010000
END:STANDARD
END:VTIMEZONE
BEGIN:VEVENT
DTSTART;TZID=Europe/Helsinki:20220814T014500
DTEND;TZID=Europe/Helsinki:20220814T080000
DTSTAMP:20260424T004331
CREATED:20220725T054251Z
LAST-MODIFIED:20220725T055154Z
UID:456-1660441500-1660464000@happystar.es
SUMMARY:Happystar On Tour Pinell De Brai
DESCRIPTION:El proper dissabte 13 d’Agost Happystar on Tour 2022 Pinell de Brai.\nA partir de les 23.45 i fins a la matinada tot l’equip humà i professional de Happystar farem parada a un dels municipis més emblemàtics de la Terra Alta.\nUna festa molt esperada on tindrem un cartell top per l’ocasió!!\nSergi Cid serà l’encarregat de donar el tret de sortida amb la millor música comercial i actual.\nTot seguit tindrem a dos autèntics cracks en remember 90s i 2000s com son Dani Cortijo i Ruben Limbos desde MIX DANCE MUSIC!!\nPluja de samarretes oficials i moltes més sorpreses….\nOrganitza: Ajuntament de Pinell de Brai\nProdueix: Happystar
URL:https://happystar.es/evento/happystar-on-tour-pinell-de-brai/
LOCATION:Pista d’Estiu\, El Pinell de Brai\, 43594
ATTACH;FMTTYPE=image/jpeg:https://happystar.es/wp-content/uploads/2022/07/295687617_5389345784442550_4470258015478414493_n.jpg
END:VEVENT
END:VCALENDAR