BEGIN:VCALENDAR
VERSION:2.0
PRODID:-//Happystar - ECPv6.15.20//NONSGML v1.0//EN
CALSCALE:GREGORIAN
METHOD:PUBLISH
X-WR-CALNAME:Happystar
X-ORIGINAL-URL:https://happystar.es
X-WR-CALDESC:Eventos para Happystar
REFRESH-INTERVAL;VALUE=DURATION:PT1H
X-Robots-Tag:noindex
X-PUBLISHED-TTL:PT1H
BEGIN:VTIMEZONE
TZID:Europe/Helsinki
BEGIN:DAYLIGHT
TZOFFSETFROM:+0200
TZOFFSETTO:+0300
TZNAME:EEST
DTSTART:20230326T010000
END:DAYLIGHT
BEGIN:STANDARD
TZOFFSETFROM:+0300
TZOFFSETTO:+0200
TZNAME:EET
DTSTART:20231029T010000
END:STANDARD
BEGIN:DAYLIGHT
TZOFFSETFROM:+0200
TZOFFSETTO:+0300
TZNAME:EEST
DTSTART:20240331T010000
END:DAYLIGHT
BEGIN:STANDARD
TZOFFSETFROM:+0300
TZOFFSETTO:+0200
TZNAME:EET
DTSTART:20241027T010000
END:STANDARD
BEGIN:DAYLIGHT
TZOFFSETFROM:+0200
TZOFFSETTO:+0300
TZNAME:EEST
DTSTART:20250330T010000
END:DAYLIGHT
BEGIN:STANDARD
TZOFFSETFROM:+0300
TZOFFSETTO:+0200
TZNAME:EET
DTSTART:20251026T010000
END:STANDARD
END:VTIMEZONE
BEGIN:VEVENT
DTSTART;TZID=Europe/Helsinki:20240809T013000
DTEND;TZID=Europe/Helsinki:20240809T073000
DTSTAMP:20260422T171028
CREATED:20240714T161509Z
LAST-MODIFIED:20240804T153621Z
UID:857-1723167000-1723188600@happystar.es
SUMMARY:On Tour Pinell de Brai
DESCRIPTION:VOLEM CAP A PINELL DE BRAI!!!!\nEl dijous 8 d’Agost tot l’equip de HS farem parada a Pinell de Brai.\nA partir de les 23:55 Happystar on Tour 2024 a la pista d’estiu de Pinell.\nTindrem la música de tots els temps\, d’ara\, d’ahir i la de fa 20 anys de la ma de Pau Mestres\, Óscar Sánchez i Pepo WB amb una autèntica sessió remember per tancar la nit. Animació virtual\, video-projeccions\, reportatge fotogràfic i mooooltes més sorpreses.\nRecordeu\, la nit del dijous 8 d’Agost tots cap a Pinell de Brai.\nOrganitza: Ajuntament de Pinell de Brai.\nProdueix: Happystar.\nLloc: Pista d’estiu.\nHora: 23:55
URL:https://happystar.es/evento/on-tour-pinell-de-brai/
ATTACH;FMTTYPE=image/jpeg:https://happystar.es/wp-content/uploads/2024/07/pinell.jpeg
END:VEVENT
END:VCALENDAR