BEGIN:VCALENDAR
VERSION:2.0
PRODID:-//Happystar - ECPv6.15.20//NONSGML v1.0//EN
CALSCALE:GREGORIAN
METHOD:PUBLISH
X-WR-CALNAME:Happystar
X-ORIGINAL-URL:https://happystar.es
X-WR-CALDESC:Eventos para Happystar
REFRESH-INTERVAL;VALUE=DURATION:PT1H
X-Robots-Tag:noindex
X-PUBLISHED-TTL:PT1H
BEGIN:VTIMEZONE
TZID:Europe/Helsinki
BEGIN:DAYLIGHT
TZOFFSETFROM:+0200
TZOFFSETTO:+0300
TZNAME:EEST
DTSTART:20230326T010000
END:DAYLIGHT
BEGIN:STANDARD
TZOFFSETFROM:+0300
TZOFFSETTO:+0200
TZNAME:EET
DTSTART:20231029T010000
END:STANDARD
BEGIN:DAYLIGHT
TZOFFSETFROM:+0200
TZOFFSETTO:+0300
TZNAME:EEST
DTSTART:20240331T010000
END:DAYLIGHT
BEGIN:STANDARD
TZOFFSETFROM:+0300
TZOFFSETTO:+0200
TZNAME:EET
DTSTART:20241027T010000
END:STANDARD
BEGIN:DAYLIGHT
TZOFFSETFROM:+0200
TZOFFSETTO:+0300
TZNAME:EEST
DTSTART:20250330T010000
END:DAYLIGHT
BEGIN:STANDARD
TZOFFSETFROM:+0300
TZOFFSETTO:+0200
TZNAME:EET
DTSTART:20251026T010000
END:STANDARD
END:VTIMEZONE
BEGIN:VEVENT
DTSTART;TZID=Europe/Helsinki:20240815T015500
DTEND;TZID=Europe/Helsinki:20240815T073000
DTSTAMP:20260422T170927
CREATED:20240806T132908Z
LAST-MODIFIED:20240806T132935Z
UID:873-1723686900-1723707000@happystar.es
SUMMARY:Deltebre Music Festival
DESCRIPTION:Ja tenim aqui la tercera edició del DELTEBRE MUSIC FESTIVAL!!!\nLa nit del dijous 14 d’Agost a partir de les 23:55 tornarà una nit única al recinte de festes.\nTindrem\, com no\, un dels millors cartells què faràn que sigue una nit per recordar.\nDj Lens i Pau Mestres seràn els encarregats de fer anar pujant la temperatura d’una gran nit….\nI per rematar-la un dels grans referents musicals com és….. ABEL KKAÑA en una sessió d’autèntic remember i el estil inconfundible.\nReportatge fotogràfic\, animació virtual\, regal de samarretes\, el millor so i….. molta festa!!!\nRecordeu el 14 d’Agost torna la tercera edició del DELTEBRE MUSIC FESTIVAL amb una gran producció HAPPYSTAR ON TOUR 2024.\nOrganitza: Ajuntament de Deltebre i Comissió de Festes.\nProdueix: Happystar.\nLloc: Recinte de festes a partir de les 23:55.
URL:https://happystar.es/evento/deltebre-music-festival-3/
ATTACH;FMTTYPE=image/jpeg:https://happystar.es/wp-content/uploads/2024/08/deltebre.jpeg
END:VEVENT
END:VCALENDAR