BEGIN:VCALENDAR
VERSION:2.0
PRODID:-//Happystar - ECPv6.15.20//NONSGML v1.0//EN
CALSCALE:GREGORIAN
METHOD:PUBLISH
X-WR-CALNAME:Happystar
X-ORIGINAL-URL:https://happystar.es
X-WR-CALDESC:Eventos para Happystar
REFRESH-INTERVAL;VALUE=DURATION:PT1H
X-Robots-Tag:noindex
X-PUBLISHED-TTL:PT1H
BEGIN:VTIMEZONE
TZID:Europe/Helsinki
BEGIN:DAYLIGHT
TZOFFSETFROM:+0200
TZOFFSETTO:+0300
TZNAME:EEST
DTSTART:20230326T010000
END:DAYLIGHT
BEGIN:STANDARD
TZOFFSETFROM:+0300
TZOFFSETTO:+0200
TZNAME:EET
DTSTART:20231029T010000
END:STANDARD
BEGIN:DAYLIGHT
TZOFFSETFROM:+0200
TZOFFSETTO:+0300
TZNAME:EEST
DTSTART:20240331T010000
END:DAYLIGHT
BEGIN:STANDARD
TZOFFSETFROM:+0300
TZOFFSETTO:+0200
TZNAME:EET
DTSTART:20241027T010000
END:STANDARD
BEGIN:DAYLIGHT
TZOFFSETFROM:+0200
TZOFFSETTO:+0300
TZNAME:EEST
DTSTART:20250330T010000
END:DAYLIGHT
BEGIN:STANDARD
TZOFFSETFROM:+0300
TZOFFSETTO:+0200
TZNAME:EET
DTSTART:20251026T010000
END:STANDARD
BEGIN:DAYLIGHT
TZOFFSETFROM:+0200
TZOFFSETTO:+0300
TZNAME:EEST
DTSTART:20260329T010000
END:DAYLIGHT
BEGIN:STANDARD
TZOFFSETFROM:+0300
TZOFFSETTO:+0200
TZNAME:EET
DTSTART:20261025T010000
END:STANDARD
BEGIN:DAYLIGHT
TZOFFSETFROM:+0200
TZOFFSETTO:+0300
TZNAME:EEST
DTSTART:20270328T010000
END:DAYLIGHT
BEGIN:STANDARD
TZOFFSETFROM:+0300
TZOFFSETTO:+0200
TZNAME:EET
DTSTART:20271031T010000
END:STANDARD
END:VTIMEZONE
BEGIN:VEVENT
DTSTART;TZID=Europe/Helsinki:20240825T015500
DTEND;TZID=Europe/Helsinki:20240825T080000
DTSTAMP:20260423T010838
CREATED:20240819T160945Z
LAST-MODIFIED:20240819T160945Z
UID:880-1724550900-1724572800@happystar.es
SUMMARY:Festes de la Cinta: Nit de Penyes
DESCRIPTION:Ja han arribat les Festes de la Cinta 2024!!!\nEl dissabte 24 d’Agost encetem les Festes Majors de la ciutat de Tortosa amb una producció made in Happystar.\nA partir de les 23:55 presentació oficial de totes les penyes al Pavelló Firal de Remolins.\nA partir de la 01.00 durem a terme la nostra sessió de la ma de Pau Mestres\, una de les promeses de les nostres terres com és Àlex Montes\, i ja per acabar Guillermo Argentó amb un “closing” del millor remember 90s i 2000s.\nShow-làser\, video-projeccions\, animació virtual\, reportatge fotogràfic i…… moltes més sorpreses!!!\nOrganitza: Ajuntament de Tortosa\, Área de Festes.\nProdueix: Happystar.\nLloc: Pavelló Firal de Remolins.
URL:https://happystar.es/evento/festes-de-la-cinta-nit-de-penyes/
ATTACH;FMTTYPE=image/jpeg:https://happystar.es/wp-content/uploads/2024/08/WhatsApp-Image-2024-08-16-at-16.14.43.jpeg
END:VEVENT
BEGIN:VEVENT
DTSTART;TZID=Europe/Helsinki:20240831T015500
DTEND;TZID=Europe/Helsinki:20240831T073000
DTSTAMP:20260423T010838
CREATED:20240824T131650Z
LAST-MODIFIED:20240824T131650Z
UID:887-1725069300-1725089400@happystar.es
SUMMARY:Gandesa Summer Festival
DESCRIPTION:El divendres 30 d’Agost…. tothom cap a la capital de la Terra Alta!!!\nEn moltissimes ganes i il•lusió tot l’equip de Happystar farem parada a Gandesa per estrenar una nova producció… Gandesa Summer Festival.\nA partir de les 23:55 al pati de les escoles velles començarà una nit mitica.\nPer primera vegada en nosaltres la dj woman i revelació Ju dj. Tot seguit tindrem el nostre amic i gran dj Óscar Sánchez.\nI com a cap de cartell\, tot un referent de l’escena mediàtica del nostre pais com és Dany BPM.\nJa per acabar el millor remember closing 90s i 2000s de la ma de Guillermo Argentó.\nRegals de samarretes oficials\, video projeccions\, animació virtual\, i el millor so i llum del moment.\nRecordeu bé aquesta data\, divendres 30 d’Agost Gandesa Summer Festival.\nOrganitza: Ajuntament de Gandesa i Societat Unió Gandesana.\nProdueix: Happystar.\nLloc: Pati de les escoles velles.\nPreu ticket: 10€.\nSocis SUG Gratuït.
URL:https://happystar.es/evento/gandesa-summer-festival/
ATTACH;FMTTYPE=image/jpeg:https://happystar.es/wp-content/uploads/2024/08/456337175_1045372243934557_6015006431510849342_n.jpg
END:VEVENT
BEGIN:VEVENT
DTSTART;TZID=Europe/Helsinki:20240908T015500
DTEND;TZID=Europe/Helsinki:20240908T073000
DTSTAMP:20260423T010838
CREATED:20240901T163439Z
LAST-MODIFIED:20240901T163439Z
UID:897-1725760500-1725780600@happystar.es
SUMMARY:On Tour Bitem
DESCRIPTION:LES FESTES MAJORS DE BITEM….. JA SÓN AQUI!!\nEl dissabte 7 de Setembre Happystar on Tour 2024 a la zona esportiva del Municipal de Bitem a partir de les 23:55.\nComençarem amb el grup de versions\, i tot un referent a les nostres terres SOMROCK\, on ens tocaràn els millors temes actuals i de les darreres décades\, amb un ampli repertori de pop espanyol\, rock català i de bandes internacionals.\nTot seguit Óscar Sánchez i la millor música actual\, i un tancament remember dance 90s i 2000s de la mà de Xavi Tites.\nAnimació virtual\, show-làser\, reportatge fotogràfic\, pluja de samarretes oficials….. i moltes més sorpreses!!\nOrganitza: EMD BITEM.\nProdueix: Happystar.\nPreu: 10€.\nLloc: Zona esportiva a partir de les 23:55.
URL:https://happystar.es/evento/on-tour-bitem/
ATTACH;FMTTYPE=image/jpeg:https://happystar.es/wp-content/uploads/2024/09/bitem.jpg
END:VEVENT
BEGIN:VEVENT
DTSTART;TZID=Europe/Helsinki:20250323T010000
DTEND;TZID=Europe/Helsinki:20250323T080000
DTSTAMP:20260423T010838
CREATED:20250219T155617Z
LAST-MODIFIED:20250303T075340Z
UID:915-1742691600-1742716800@happystar.es
SUMMARY:A Tribute Night Móra la Nova
DESCRIPTION:El dissabte 22 de Març a partir de les 23:00\, al pavelló firal de Móra la Nova…… A TRIBUTE NIGHT BY HAPPYSTAR!!!\nLa nit del 22 de Març farem saltar totes les alarmes de lo que s’espera una gran nit per enmarcar.\nAttitude for destruction i Seek’em all homentajeran a les bandes de Guns & Roses i Metallica respectivament.\n4 hores del millor heavy metal amb un gran desplegament de so i llums\, reportatge fotogràfic amb photocall i…. TRACA DE LA BONA!!!\nOrganitza: Ajuntament de Móra la Nova.\nProdueix: Happystar.\nCol•labora: Diables Masovers de Móra la Nova.\nEntrades anticipades 12€.\nEntrades taquilla 15€.\n5€ amb carnet jove de Móra la Nova a taquilla.\nProhibida l’entrada als menors de 16 anys i fins als 18 amb autorització.\nVenda d’entrades on-line a tuktuk.cat
URL:https://happystar.es/evento/a-tribute-night-mora/
ATTACH;FMTTYPE=image/jpeg:https://happystar.es/wp-content/uploads/2025/02/WhatsApp-Image-2025-02-21-at-12.33.13.jpeg
END:VEVENT
BEGIN:VEVENT
DTSTART;TZID=Europe/Helsinki:20250815T013000
DTEND;TZID=Europe/Helsinki:20250815T080000
DTSTAMP:20260423T010838
CREATED:20250721T091249Z
LAST-MODIFIED:20250721T091328Z
UID:951-1755221400-1755244800@happystar.es
SUMMARY:Happystar on Tour Corbera d'Ebre
DESCRIPTION:Arriben les Festes Majors de Corbera d’Ebre!!!\nEl dijous 14 d’Agost al Casal Municipal de Corbera d’Ebre Happystar on Tour 2025!!!!\nA partir de les 23:55\, i després d’un any de descans Happystar tornem amb tota l’artilleria carregada. La nit del dijous Corbera d’Ebre serà l’epicentre de tota la Terra Alta. Dj Iker Algueró\, Pau Mestres i un tancament brutal de la mà d’Abel kkaña seràn els encarregats de ficar Corbera…… del revés!!!\nShow-làser\, video projeccions\, reportatge fotogràfic amb zona per photocall….. i molta festa!!\nOrganitza: Ajuntament de Corbera d’Ebre.\nProdueix: Happystar.\nCol•labora: Associació de joves de Corbera d’Ebre.\nPreu entrada: 10€; Gratuït amb l’abonament de festes.
URL:https://happystar.es/evento/happystar-on-tour-25-corbera-debre/
ATTACH;FMTTYPE=image/jpeg:https://happystar.es/wp-content/uploads/2025/07/wa.jpeg
END:VEVENT
BEGIN:VEVENT
DTSTART;TZID=Europe/Helsinki:20250831T013000
DTEND;TZID=Europe/Helsinki:20250831T080000
DTSTAMP:20260423T010838
CREATED:20250822T074207Z
LAST-MODIFIED:20250822T074207Z
UID:970-1756603800-1756627200@happystar.es
SUMMARY:Especial Nit de Penyes La Cinta
DESCRIPTION:Ja tenim aqui les Festes de la Cinta 2025 a Tortosa.\nAquest any desde Happystar tornarem a ser els encarregats de donar el tret de sortida amb l’especial Nit de les Penyes.\nEl dissabte 30 d’Agost a partir de les 23:15 presentació de les Penyes i parlament per part de les autoritats al Pavelló firal de Remolins.\nA partir de la 01:15 començarem la festa amb Iker Algueró\, Pau Mestres i a última hora de la matinada Xavi Tites amb un tancament remember 90s i 2000s.\nFoc\, fum\, video-projeccions\, show-làser\, reportatge fotogràfic i moltes sorpreses més….\nOrganitza: Ajuntament de Tortosa.\nProdueix: Happystar.\nLloc: Pavelló firal de Remolins.
URL:https://happystar.es/evento/especial-nit-de-penyes-la-cinta/
ATTACH;FMTTYPE=image/jpeg:https://happystar.es/wp-content/uploads/2025/08/WhatsApp-Image-2025-08-22-at-10.00.51.jpeg
END:VEVENT
BEGIN:VEVENT
DTSTART;TZID=Europe/Helsinki:20250914T015500
DTEND;TZID=Europe/Helsinki:20250914T080000
DTSTAMP:20260423T010838
CREATED:20250902T223942Z
LAST-MODIFIED:20250902T223942Z
UID:980-1757814900-1757836800@happystar.es
SUMMARY:HappyStar on Tour Bitem
DESCRIPTION:Ja tenim aqui les festes de Bitem 2025!!!!El próxim dissabte dia 13 a partir de les 23:55 al recinte de festes Happystar on Tour 2025.Desde primera hora els millors ritmes actuals amb Dj Iker Algueró\, tot seguit d’un dels djs més referents de les nostres terres Lluis Torralbo\, i per ficar punt final a la nit Xavi Tites amb el millor remember 90s i 2000s.Show-làser\, videoprojeccions\, animació virtual\, reportatge fotogràfic\, regals de samarretes oficials\, i mooooltes més sorpreses!!!Organitza: EMD Bitem.Produeix: Happystar.Lloc: Recinte de festes a partir de les 23:55.Preu entrada: 10€ sense abonament.
URL:https://happystar.es/evento/happystar-on-tour-bitem/
ATTACH;FMTTYPE=image/jpeg:https://happystar.es/wp-content/uploads/2025/09/541214860_18145703920407733_1185157358097499846_n.jpg
END:VEVENT
BEGIN:VEVENT
DTSTART;TZID=Europe/Helsinki:20260111T003000
DTEND;TZID=Europe/Helsinki:20260111T070000
DTSTAMP:20260423T010838
CREATED:20251214T173329Z
LAST-MODIFIED:20260101T144101Z
UID:1007-1768091400-1768114800@happystar.es
SUMMARY:A Night To Remember El Perelló
DESCRIPTION:Aquest 2026 comencem de la millor manera possible!!!!\nA night to remember by Happystar El Perelló!!\nEl dissabte 10 de Gener tornem amb la festa remember i tota l’artilleria pesada de Happystar.\nA partir de les 23:30 al Pavelló Poliesportiu Municipal del Perelló tindrem un autèntic cartell de luxe….\n– Dj Marc RB.\n– Manel Segarra i Dj Pani.\n– Abel Kkaña.\n– John Core (PIRÁMIDE)\n– Dj Thomas (PIRÁMIDE)\n\n\nTambé tindrem el millor so i llum del moment amb AT Productions\, show-làser\, foc i fum\, video projeccions amb mega pantalla de LEDS\, reportatge fotogràfic i photocall\, i moltes més sorpreses…..\nDissabte 10 de Gener a partir de les 23:30.\nPavelló Poliesportiu Municipal del Perelló.\nPreu: 12€ entrada. La persona què tingue l’abonament de festes abans del dia 10 te l’entrada gratuïta. El preu de l’abonament per als cinc dies de festa major 30€.\n\nComprar entrada\n\nOrganitza: Ajuntament del Perelló.\nProdueix: Happystar.
URL:https://happystar.es/evento/a-night-to-remember-perello-26/
ATTACH;FMTTYPE=image/jpeg:https://happystar.es/wp-content/uploads/2025/12/perello_2026.jpeg
END:VEVENT
BEGIN:VEVENT
DTSTART;TZID=Europe/Helsinki:20260329T003000
DTEND;TZID=Europe/Helsinki:20260329T070000
DTSTAMP:20260423T010838
CREATED:20260110T131754Z
LAST-MODIFIED:20260222T181637Z
UID:1017-1774744200-1774767600@happystar.es
SUMMARY:Piramide en Boca a Boca
DESCRIPTION:🗓️DÍA: 28 MARZO 2026 \n📍LUGAR: SALA BOCAaBOCA (Polígono Les Tosses – Amposta – Tarragona) \nDesde las 23:00h a las 06:00h. \nZONA 1: HARDCORE\, NEWSTYLE & MAKINA. \nZONA 2: REMEMBER & RETROSPECTIVE. \nZONA TERRAZA \nPARKING \nBOUTIQUE OFICIAL PIRÁMIDE \nDECORACIÓN EXCLUSIVA IMPERIO \nREGALO CONMEMORATIVO A LOS PRIMEROS \nDJ’S PIRÁMIDE Y PERSONAL PIRÁMIDE \n…. Y vosotros los piramideros … \n👉🏻 ENTRADAS CON DESCUENTO ‼️
URL:https://happystar.es/evento/piramide-boca-a-boca/
ATTACH;FMTTYPE=image/jpeg:https://happystar.es/wp-content/uploads/2026/01/bocaaboca-piramide.jpeg
END:VEVENT
END:VCALENDAR