BEGIN:VCALENDAR
VERSION:2.0
PRODID:-//Happystar - ECPv6.15.20//NONSGML v1.0//EN
CALSCALE:GREGORIAN
METHOD:PUBLISH
X-WR-CALNAME:Happystar
X-ORIGINAL-URL:https://happystar.es
X-WR-CALDESC:Eventos para Happystar
REFRESH-INTERVAL;VALUE=DURATION:PT1H
X-Robots-Tag:noindex
X-PUBLISHED-TTL:PT1H
BEGIN:VTIMEZONE
TZID:Europe/Helsinki
BEGIN:DAYLIGHT
TZOFFSETFROM:+0200
TZOFFSETTO:+0300
TZNAME:EEST
DTSTART:20210328T010000
END:DAYLIGHT
BEGIN:STANDARD
TZOFFSETFROM:+0300
TZOFFSETTO:+0200
TZNAME:EET
DTSTART:20211031T010000
END:STANDARD
BEGIN:DAYLIGHT
TZOFFSETFROM:+0200
TZOFFSETTO:+0300
TZNAME:EEST
DTSTART:20220327T010000
END:DAYLIGHT
BEGIN:STANDARD
TZOFFSETFROM:+0300
TZOFFSETTO:+0200
TZNAME:EET
DTSTART:20221030T010000
END:STANDARD
BEGIN:DAYLIGHT
TZOFFSETFROM:+0200
TZOFFSETTO:+0300
TZNAME:EEST
DTSTART:20230326T010000
END:DAYLIGHT
BEGIN:STANDARD
TZOFFSETFROM:+0300
TZOFFSETTO:+0200
TZNAME:EET
DTSTART:20231029T010000
END:STANDARD
BEGIN:DAYLIGHT
TZOFFSETFROM:+0200
TZOFFSETTO:+0300
TZNAME:EEST
DTSTART:20240331T010000
END:DAYLIGHT
BEGIN:STANDARD
TZOFFSETFROM:+0300
TZOFFSETTO:+0200
TZNAME:EET
DTSTART:20241027T010000
END:STANDARD
BEGIN:DAYLIGHT
TZOFFSETFROM:+0200
TZOFFSETTO:+0300
TZNAME:EEST
DTSTART:20250330T010000
END:DAYLIGHT
BEGIN:STANDARD
TZOFFSETFROM:+0300
TZOFFSETTO:+0200
TZNAME:EET
DTSTART:20251026T010000
END:STANDARD
END:VTIMEZONE
BEGIN:VEVENT
DTSTART;TZID=Europe/Helsinki:20240713T013000
DTEND;TZID=Europe/Helsinki:20240713T080000
DTSTAMP:20260421T153233
CREATED:20240618T051355Z
LAST-MODIFIED:20240618T051355Z
UID:840-1720834200-1720857600@happystar.es
SUMMARY:Festival Tronat Planer
DESCRIPTION:Arriben les festes majors de Santa Bàrbara\, i aquest 2024 donant el tret de sortida al Festival Tronat Planer…… Happystar on Tour 2024!!! El divendres 12 de Juliol a partir de les 23:55 al camp de fútbol municipal començarem una de les millor nits d’aquest estiu 2024.\nTindrem comandant la cabina de Happystar a Pau Mestres i Óscar Sánchez amb la millor música comercial i patxanguera del moment. I per acabar la sessió i com a plat fort de la nit\, un dels artistes de més renom de tots els temps….. Abel Kkaña!!! que donarà el seu toc musical amb el millor remember 90s i 2000s i el seu estil inconfundible!!!\nPluja de samarretes oficials\, video projeccions\, animació virtual\, reportatge fotogràfic amb photocall… i moltes sorpreses més!!\nRecordeu gent de les Terres de l’Ebre\, la nit del divendres 12 de Juliol Happystar on Tour 2024 al camp de fútbol municipal de Santa Bàrbara.\nOrganitza: Ajuntament de Santa Bàrbara.\nProdueix: Happystar.\nLloc: Camp de fútbol.\nENTRADA GRATUÏTA!!
URL:https://happystar.es/evento/festival-tronat-planer/
ATTACH;FMTTYPE=image/jpeg:https://happystar.es/wp-content/uploads/2024/06/448407828_10161320929559699_5872223995033140968_n.jpg
END:VEVENT
BEGIN:VEVENT
DTSTART;TZID=Europe/Helsinki:20240628T010000
DTEND;TZID=Europe/Helsinki:20240628T080000
DTSTAMP:20260421T153233
CREATED:20240612T052108Z
LAST-MODIFIED:20240612T053010Z
UID:830-1719536400-1719561600@happystar.es
SUMMARY:On Tour Roquetes
DESCRIPTION:El dijous 27 de Juny Happystar on Tour donarà les campanades d’inici a les festes majors de Roquetes 2024!!!\nA partir de les 23.00 ficarem “mode on” a la presentació de les colles i el concurs.\nTot seguit tribut a Lady Gaga amb Sandra Cooper on interpretarem amb guitarriste cançons com “Shallow” de la pel•licula ha nascut una estrella.\nUna vegada acabi el tribut\, Óscar Sánchez serà l’encarregat de començar la sessió amb la millor música comercial del moment i donant pas a uns dels djs més de moda del panorama musical estatal com és…. DANY BPM!\nTot això i per tancar la sessió Guillermo Argentó i la millor música remember dance dels 90s i 2000s!!\nPluja de samarretes oficials\, video projeccions\, reportatge fotogràfic amb photocall…. i moltes sorpreses més!!!\nLloc: Terrassa d’estiu de les escoles.\nOrganitza: Ajuntament de Roquetes i Patronat de Festes.\nProdueix: Happystar.\nPreu de l’entrada 10€.
URL:https://happystar.es/evento/on-tour-roquetes-24/
LOCATION:Terrassa D’Estiu\, Carrer Pare Romanya\, 28\, Roquetes\, 43520\, España
ATTACH;FMTTYPE=image/jpeg:https://happystar.es/wp-content/uploads/2024/06/WhatsApp-Image-2024-06-11-at-12.27.55.jpeg
END:VEVENT
BEGIN:VEVENT
DTSTART;TZID=Europe/Helsinki:20240519T013000
DTEND;TZID=Europe/Helsinki:20240520T013000
DTSTAMP:20260421T153233
CREATED:20240423T084555Z
LAST-MODIFIED:20240423T124719Z
UID:815-1716082200-1716168600@happystar.es
SUMMARY:On Tour Calaceite
DESCRIPTION:El sábado 18 de Mayo llega a Calaceite una de las fiestas más representativas de esta primavera…. Happystar on Tour 2024!!!!\nA partir de las 00.30 de la noche\, en el pabellón municipal empezaremos una noche de auténtico infarto!!\nIsaac Sánchez con el mejor sonido comercial del momento\, Óscar Sánchez todo un referente que irá subiendo la temperatura poco a poco\, y Guillermo Argentó que dará fin a la sesión con un auténtico cierre remember 90s y 2000s.\nTendremos video-proyeciones\, animación virtual\, reportaje fotográfico con photocall\, el mejor sonido Line-Array del momento y sobre todo….. mucha fiesta!!\nAaah! Y todo esto con entrada gratuita y precios populares en barra.\nOrganiza: Asociación de jovenes de Calaceite.\nProduce: Happystar.\nRecuerda! El sábado 18 de Mayo solo tiene un nombre…. CALACEITE!!
URL:https://happystar.es/evento/on-tour-calaceite/
ATTACH;FMTTYPE=image/jpeg:https://happystar.es/wp-content/uploads/2024/04/437565874_10161217092534699_3307933209912462353_n.jpg
END:VEVENT
BEGIN:VEVENT
DTSTART;TZID=Europe/Helsinki:20240204T013000
DTEND;TZID=Europe/Helsinki:20240204T073000
DTSTAMP:20260421T153233
CREATED:20240117T102038Z
LAST-MODIFIED:20240122T113908Z
UID:798-1707010200-1707031800@happystar.es
SUMMARY:On Tour l'Ametlla de Mar
DESCRIPTION:El dissabte 3 de Febrer arriba una de les festes més esperades de totes…. Happystar on Tour 2024 a l’Ametlla de Mar!!\nUna vegada acabi la sessió d’orquestra a partir de les 03:00\, començarem una de les sessions què haurem d’enmarcar per la posteritat!!!\nUna sessió d’infart de la ma d’Óscar Sánchez\, Tony Fimia amb el millor techno closing set\, i l’actuació per primera vegada a les nostres sessions de tot un referent com és…. Dany BPM!\nGuardeu la data del 3 de Febrer al vostre calendari!!\nOrganitza: Ajuntament de l’Ametlla de Mar.\nProdueix: Happystar.\nLloc: Pavello Esportiu “El Galetet” a partir de les 03:00.\nPreu: 10€
URL:https://happystar.es/evento/on-tour-lametlla-de-mar/
ATTACH;FMTTYPE=image/jpeg:https://happystar.es/wp-content/uploads/2024/01/cartel-atmella-de-mar-instagram.jpg
END:VEVENT
BEGIN:VEVENT
DTSTART;TZID=Europe/Helsinki:20240120T003000
DTEND;TZID=Europe/Helsinki:20240120T070000
DTSTAMP:20260421T153233
CREATED:20231221T094329Z
LAST-MODIFIED:20240114T145923Z
UID:775-1705710600-1705734000@happystar.es
SUMMARY:A Night To Remember El Perelló
DESCRIPTION:Si!! Ho hem tornat a fer!!!!!\nEl divendres 19 de Gener\, a partir de les 23.30 al Casal del Centre d’Esports del Perelló\, tindrem una nit remember per recordar els millors temps\, i com no\, de la ma dels millors djs del moment.\nComandant la cabina de Happystar Guillermo Argentó\, Mark Rb i el duet format per Manel Segarra & Eloi Melich on estaràn acompanyats amb dos caps de cartells de la talla de Raúl Platero i Javi Boss en motiu de les festes de Sant Antoni al Perelló.\nTindrem el millor so Line Array amb video projeccions\, reportatge fotogràfic amb zona photocall\, show-làser i mooooltes sorpreses.\nLa nit del divendres 19 de Gener serà…..MÍTICA!!\nOrganitza: Ajuntament del Perelló.\nProdueix: Happystar.\n\nPreu entrada 10-15€\, gratuït amb abonament de festes.
URL:https://happystar.es/evento/a-night-to-remember-el-perello/
ATTACH;FMTTYPE=image/jpeg:https://happystar.es/wp-content/uploads/2023/12/A-NIGHT-TO-REMEMBER-EL-PERELLO-2024.jpg
END:VEVENT
BEGIN:VEVENT
DTSTART;TZID=Europe/Helsinki:20230827T013000
DTEND;TZID=Europe/Helsinki:20230827T080000
DTSTAMP:20260421T153233
CREATED:20230818T133307Z
LAST-MODIFIED:20230818T133307Z
UID:675-1693099800-1693123200@happystar.es
SUMMARY:Happystar on Tour La Cinta
DESCRIPTION:
URL:https://happystar.es/evento/happystar-on-tour-la-cinta/
ATTACH;FMTTYPE=image/jpeg:https://happystar.es/wp-content/uploads/2023/08/la-cinta.jpeg
END:VEVENT
BEGIN:VEVENT
DTSTART;TZID=Europe/Helsinki:20230819T013000
DTEND;TZID=Europe/Helsinki:20230819T080000
DTSTAMP:20260421T153233
CREATED:20230807T124510Z
LAST-MODIFIED:20230818T133650Z
UID:655-1692408600-1692432000@happystar.es
SUMMARY:Deltebre Music Festival
DESCRIPTION:Arriba la segona edició del Deltebre Music Festival al recinte de Festes del Parc Fluvial.\nLa nit del divendres 18 d’Agost i a partir de les 23:45 Happystar on Tour 2023 a les festes majors de Deltebre en la nit especial dels Quintos 2005.\nTindrem de primera ma als djs Ferran Montaña i Óscar Sánchez amb la millor música actual\, electrolatina i patxanguera\, i desde Mitics 90 un tancament apoteòsic amb el millor remember dels anys 90s i 2000s de la ma de Guillermo Argentó.\nSo Line Array\, video projeccions\, animació virtual\, regals\, pluja de samarretes oficials i mooooooolta festaaa!!\nRecorda\, la nit del 18 d’Agost en el marc del tour 2023 de Happystar\, segona edició del Deltebre Music Festival.\nOrganitza: Ajuntament de Deltebre.\nProdueix: Happystar.\nLloc: Recinte festiu del Parc Fluvial.\nHora: 23:45.\nPreu: 7€ entrada. Menors de 12 anys gratuït.
URL:https://happystar.es/evento/deltebre-music-festival-2/
ATTACH;FMTTYPE=image/jpeg:https://happystar.es/wp-content/uploads/2023/08/366070632_802400448231739_5493478553881684442_n.jpg
END:VEVENT
BEGIN:VEVENT
DTSTART;TZID=Europe/Helsinki:20230815T013000
DTEND;TZID=Europe/Helsinki:20230815T080000
DTSTAMP:20260421T153233
CREATED:20230802T180837Z
LAST-MODIFIED:20230804T062626Z
UID:615-1692063000-1692086400@happystar.es
SUMMARY:Happystar On Tour Corbera D'Ebre
DESCRIPTION:Us presentem el cartell oficial amb els djs d’una de les festes més i millor consolidades de la Terra Alta.\nEl dilluns 14 d’Agost al Casal Municipal de Corbera d’Ebre… Happystar on Tour 2023 amb:\nDj Sisco Paredes per anar obrint boca i la millor música comercial de Festa Major.\nSeguidament tindrem a Pau Mestres amb els millors hits del 2023 i la millor música comercial del 2023. I finalment\, i per tancar la festa Sonido Dj Gallo amb la millor música remember dels 90s i 2000s!!!\nOrganitza: Ajuntament de Corbera d’Ebre.\nProdueix: Happystar.\nPreu entrada 10€ o gratuïta amb l’abonament de festes de 25€ per tots els actes.\nLink de venda d’entrades:\nhttps://www.corberaebre.cat/tramits-i-serveis/categoria/25/nit-jove-festes-majors-2023
URL:https://happystar.es/evento/on-tour-corbera-debre/
ATTACH;FMTTYPE=image/jpeg:https://happystar.es/wp-content/uploads/2023/08/WhatsApp-1.jpeg
END:VEVENT
BEGIN:VEVENT
DTSTART;TZID=Europe/Helsinki:20230423T013000
DTEND;TZID=Europe/Helsinki:20230423T070000
DTSTAMP:20260421T153233
CREATED:20230324T110836Z
LAST-MODIFIED:20230423T000304Z
UID:514-1682213400-1682233200@happystar.es
SUMMARY:XXè Aniversari FlaixFM
DESCRIPTION:🔥🔥🔥 Avui celebrem l’aniversari més esperat 👉 20 anys de FlaixFM a les Terres de l’Ebre 🔥🔥🔥 \nPrepara’t per viure un festival FlaixFM 😏 amb pluja de regals i marxandatge oficial 🎉 \n🔊 Sergi Domene\, Hector Ortega\, Sergi Cid i sonido DJGallo. \nLa festa la farem al pati de l’Escola Mestre Marcel·lí Domingo 🏫 de Roquetes a partir de les 23:30 🕓 de la nit. \n \nPer comprar una entrada t’has de descarregar l’aplicació eBando eAgora disponible a l’Apple Store i Google Store. Al moment de baixar l’aplicació i crear l’usuari recomanem posar a municipi Roquetes aixi et sortira l’esdeveniment a la pantalla d’inici de l’aplicacio. Si no et surt la festa entra a Àgores i afegeix Roquetes \n \n \nLes entrades que has comprat les trobaras a l’aplicació eAgora. Dins de Butxaca > Entrades. \nEntrada +16 anys. Els menors de 16 anys hauran d’anar acompanyats d’un tutor i document acreditat. \n📄 Autorització menors de 16 anys.
URL:https://happystar.es/evento/xx-aniversari-flaixfm/
ATTACH;FMTTYPE=image/jpeg:https://happystar.es/wp-content/uploads/2023/03/XX-ANIVERSARI-FLAIX-A-ROQUETES-REDES.jpg
END:VEVENT
BEGIN:VEVENT
DTSTART;TZID=Europe/Helsinki:20230121T013000
DTEND;TZID=Europe/Helsinki:20230121T083000
DTSTAMP:20260421T153233
CREATED:20230106T061834Z
LAST-MODIFIED:20230106T101426Z
UID:507-1674264600-1674289800@happystar.es
SUMMARY:A Night To Remember Perello
DESCRIPTION:Si\, ho em fet!\nEl què em fet?\nEl què ens havieu demanat!\nQue ens havieu demanat?\nJuntar a dos grans mestres en un festival de Happystar!!\nQui hi serà?\nUn cos a cos entre Javi Boss i Miguel Serna.\nQui els acompanyarà?\nMark Rb i Manel Segarra & Eloi Melich.\nQuan?\nEl divendres 20 de Gener de 2023 a partir de les 23:45.\nOn?\nAl Casal Centre d’Esports del Perelló.\nQui ho organitza?\nAjuntament del Perelló.\nQui ho produeix?\nHappystar.\nPreu de l’entrada 12€ a taquilla i gratuït amb l’abonament de festes.\nAFORAMEMT LIMITAT!!\nRecordeu bé!! Divendres 20 de Gener de 2023 A Night to remember by Happystar dintre del Tour 2023.
URL:https://happystar.es/evento/a-night-to-remember-perello/
ATTACH;FMTTYPE=image/jpeg:https://happystar.es/wp-content/uploads/2023/01/323924559_8525922204116267_6843812862008495954_n.jpg
END:VEVENT
BEGIN:VEVENT
DTSTART;TZID=Europe/Helsinki:20220910T014500
DTEND;TZID=Europe/Helsinki:20220910T080000
DTSTAMP:20260421T153233
CREATED:20220817T052136Z
LAST-MODIFIED:20220817T054625Z
UID:487-1662774300-1662796800@happystar.es
SUMMARY:A Night To Remember Benifallet
DESCRIPTION:Divendres 9 de Setembre arriba un dels festivals més importants del final de l’estiu.\nA night to remember by Happystar!!!\nUn festival únic i exclusiu on la principal característica serà rememorar la millor música dels darrers 25 anys.\nUna producció exclusiva en la què contarem amb un quartet immillorable!!\nSergi Cid serà l’encarregat de donar el tret de sortida.\nSeguidament tindrem a un dels millors tridents possibles per fer de la nit del 9 de Setembre una nit per enmarcar.\nDani Cortijo\, Sonido Gallo i tot un autèntic referent del panorama musical com és Alfredo Pareja.\n22000 Watts de llum i so\, video-projeccions\, reportatge fotogràfic\, pluja de samarretes oficials 2022\, i moltes sorpreses més!!!\nPren nota i reserva la data del 9 de Setembre a Benifallet amb una gran producció única.\nOrganitza: Ajuntament de Benifallet.\nProdueix: Happystar.\nLloc: Centre Polivalent.\nCompra la teva entrada a Ebreticket 10€. Preu Taquilla 15€.
URL:https://happystar.es/evento/a-night-to-remember-benifallet/
ATTACH;FMTTYPE=image/jpeg:https://happystar.es/wp-content/uploads/2022/08/benifallet.jpg
END:VEVENT
BEGIN:VEVENT
DTSTART;TZID=Europe/Helsinki:20220821T014500
DTEND;TZID=Europe/Helsinki:20220821T080000
DTSTAMP:20260421T153233
CREATED:20220801T123215Z
LAST-MODIFIED:20220801T123215Z
UID:462-1661046300-1661068800@happystar.es
SUMMARY:Happystar On Tour Caseres
DESCRIPTION:Happystar on Tour 2022 a Caseres!!!\nEl dissabte 20 d’Agost arriba una de les festes més esperades per tots nosaltres. Després de l’anul•lació durant dos anys seguits\, per fi la podrem celebrar tots junts.\nEn aquesta ocasió estarem representats per l’equip dels nostres djs Sisco Paredes\, Sergi Cid i Paco Moliner que faràn un repàs a la millor música actual i dels darrers quaranta anys per tota la gent i tots els estils.\nTindrem regals de samarretes\, reportatge fotogràfic amb photocall\, video-projeccions i moltes més sorpreses.\nOrganitza: Ajuntament de Caseres.\nProdueix: Happystar.\nLloc: Pista d’estiu.\nAmb el suport de la Diputació de Tarragona.
URL:https://happystar.es/evento/happystar-on-tour-caseres/
ATTACH;FMTTYPE=image/jpeg:https://happystar.es/wp-content/uploads/2022/08/296137468_5407272752649853_4253050837563131216_n.jpg
END:VEVENT
BEGIN:VEVENT
DTSTART;TZID=Europe/Helsinki:20220818T220000
DTEND;TZID=Europe/Helsinki:20220819T080000
DTSTAMP:20260421T153233
CREATED:20220721T180658Z
LAST-MODIFIED:20220721T182038Z
UID:446-1660860000-1660896000@happystar.es
SUMMARY:Techno Remolins 2022
DESCRIPTION:Aquest any estarem promocionant un dels esdeveniments més importants dels últims temps.\nUna festa molt esperada per part de tots nosaltres.\n3 anys han hagut de passar però per fi el 18 d’Agost la podrem disfrutar.\nFesta Techno de Remolins edició 2022 amb Pepo Wb\, Kim Sanz\, Dani Calau\, Dj Dario & Dj Timmy.\nCompra la teva entrada\nOrganitza: Lo Golafre.\nPromociona: Happystar.\nLloc: Poliesportiu de Remolins.\nI lo més important…… de les 20:00 fins les 06:00.\nEl 18 d’Agost us esperem a tots!!
URL:https://happystar.es/evento/techno-remolins-2022/
LOCATION:Poliesportiu Remolins\, Carrer del Sindicat\, 1\, Tortosa\, 43500
ATTACH;FMTTYPE=image/jpeg:https://happystar.es/wp-content/uploads/2022/07/295266419_5381610808549381_1955646844856446262_n.jpg
END:VEVENT
BEGIN:VEVENT
DTSTART;TZID=Europe/Helsinki:20220818T013000
DTEND;TZID=Europe/Helsinki:20220818T083000
DTSTAMP:20260421T153233
CREATED:20220717T160247Z
LAST-MODIFIED:20220717T162401Z
UID:438-1660786200-1660811400@happystar.es
SUMMARY:Deltebre Music Festival
DESCRIPTION:El dimecres 17 d’Agost\, al recinte de festes de Deltebre\, a partir de les 23.30 plantarem una llavor!!\nCelebrarem\, tots junts\, la primera edició del Deltebre Music Festival.\nUn festival únic i emotiu\, on reviurem la millor música de l’actualitat i dels darrers 30 anys.\nUn festival fet i pensat per tothom\, on la dona serà la principal protagonista.\nPer aquest motiu tindrem un cartell d’alt nivell amb Dj Lens i la millor música actual\, Mónica X\, Paco Moliner i Javi Boss\, i l’actuació de la cantant Kriss Orue amb els seus temes “Strangers”\, “Tonight”…\nLa nit del 17 d’Agost sol te un nom… Deltebre Music Festival “especial día de la dona”\nOrganitza: Ajuntament de Deltebre (Deltebre comissió de festes)\nProdueix: Happystar
URL:https://happystar.es/evento/deltebre-music-festival/
LOCATION:Recinte Festiu\, Avinguda Catalunya\, 22\, Deltebre\, 43580
ATTACH;FMTTYPE=image/jpeg:https://happystar.es/wp-content/uploads/2022/07/PHOTO-2022-07-17-19-35-25.jpg
END:VEVENT
BEGIN:VEVENT
DTSTART;TZID=Europe/Helsinki:20220815T014500
DTEND;TZID=Europe/Helsinki:20220815T080000
DTSTAMP:20260421T153233
CREATED:20220711T043220Z
LAST-MODIFIED:20220721T181907Z
UID:424-1660527900-1660550400@happystar.es
SUMMARY:Happystar On Tour Corbera D'Ebre
DESCRIPTION:Diumenge 14 d’Agost Happystar on Tour 2022 farà parada a Corbera d’Ebre amb un cartell d’autèntic luxe!!!\nMés de dos anys esperant aquest festival què per fi podrem celebrar tots junts.\nEns acompanyarà ni més ni menys un dels dj’s amb més renom del panorama musical de tot l’estat…..JAVI BOSS!!!\nTambé tindrem un ampli ventall musical de la ma de Sisco Paredes amb la música que sempre hem viscut i apreciat i\ncom no\, repassarem els millors temes i hits actuals amb Dj Lens.\nLa nit del diumenge 14 d’Agost sol te un nom….. Corbera d’Ebre!!!!\nOrganitza: Ajuntament de Corbera d’Ebre\nProdueix: Happystar.\nPreu entrada sense abonament 10€.\nGratuïta amb abonament.
URL:https://happystar.es/evento/happystar-on-tour-corbera-debre/
LOCATION:Casal Municipal\, Avinguda Casal\, 10\, Corbera d'Ebre\, 43784
ATTACH;FMTTYPE=image/jpeg:https://happystar.es/wp-content/uploads/2022/07/PHOTO-2022-07-07-21-31-37.jpg
END:VEVENT
BEGIN:VEVENT
DTSTART;TZID=Europe/Helsinki:20220814T014500
DTEND;TZID=Europe/Helsinki:20220814T080000
DTSTAMP:20260421T153233
CREATED:20220725T054251Z
LAST-MODIFIED:20220725T055154Z
UID:456-1660441500-1660464000@happystar.es
SUMMARY:Happystar On Tour Pinell De Brai
DESCRIPTION:El proper dissabte 13 d’Agost Happystar on Tour 2022 Pinell de Brai.\nA partir de les 23.45 i fins a la matinada tot l’equip humà i professional de Happystar farem parada a un dels municipis més emblemàtics de la Terra Alta.\nUna festa molt esperada on tindrem un cartell top per l’ocasió!!\nSergi Cid serà l’encarregat de donar el tret de sortida amb la millor música comercial i actual.\nTot seguit tindrem a dos autèntics cracks en remember 90s i 2000s com son Dani Cortijo i Ruben Limbos desde MIX DANCE MUSIC!!\nPluja de samarretes oficials i moltes més sorpreses….\nOrganitza: Ajuntament de Pinell de Brai\nProdueix: Happystar
URL:https://happystar.es/evento/happystar-on-tour-pinell-de-brai/
LOCATION:Pista d’Estiu\, El Pinell de Brai\, 43594
ATTACH;FMTTYPE=image/jpeg:https://happystar.es/wp-content/uploads/2022/07/295687617_5389345784442550_4470258015478414493_n.jpg
END:VEVENT
BEGIN:VEVENT
DTSTART;TZID=Europe/Helsinki:20220715T014500
DTEND;TZID=Europe/Helsinki:20220715T080000
DTSTAMP:20260421T153233
CREATED:20220627T070832Z
LAST-MODIFIED:20220627T074538Z
UID:384-1657849500-1657872000@happystar.es
SUMMARY:Happystar On Tour Jesus
DESCRIPTION:On ens havieu demanat un Happystar on Tour?\nOn volieu la próxima festa de Happystar?\nOn anireu la nit del dijous 14 de Juliol??\nA Jesús!! Jesús!! Jesús!!\nEl proper dijous 14 de Juliol\, tot l’equip humà i professional d’aquest Tour 2022 ens desplaçarem a la plaça del Pavelló de Jesús!!\n20000 Watts de llum i so\, video-projeccions\, reportatge fotogràfic\, 3 djs\, més de 6 hores de festa i moltes\, moltes més sorpreses.\nEn line-up els nostres artistes Sergi Cid\, Dj Lens i Dani Cortijo en un autèntic espiral musical amb els millors temes del moment i un autèntic set remember 90s i 2000s de tancament.\nEl dijous 14 de Juliol…. TOTS CAP A JESÚS!!!\nEntrades a Ebreticket 10€ – Comprar entrada\nA taquilla 15€.\nGratuïta amb abonament de festes.\nOrganitza: EMD Jesús.\nProdueix: Happystar.
URL:https://happystar.es/evento/happystar-on-tour-jesus/
LOCATION:Plaça del Pavelló WIN\, Ctra. de Jesús a Roquetes\, 23\, Jesús\, 43590
ATTACH;FMTTYPE=image/jpeg:https://happystar.es/wp-content/uploads/2022/06/on-tour-jesus.jpg
END:VEVENT
BEGIN:VEVENT
DTSTART;TZID=Europe/Helsinki:20220619T013000
DTEND;TZID=Europe/Helsinki:20220619T080000
DTSTAMP:20260421T153233
CREATED:20220610T122548Z
LAST-MODIFIED:20220610T124155Z
UID:273-1655602200-1655625600@happystar.es
SUMMARY:Happystar on Tour La Galera
DESCRIPTION:
URL:https://happystar.es/evento/happystar-la-galera/
LOCATION:Pista Poliesportiva\, La Galera\, 43515
ATTACH;FMTTYPE=image/jpeg:https://happystar.es/wp-content/uploads/2022/06/CARTEL-GALERA-2022-REDES.jpg
END:VEVENT
END:VCALENDAR